BEGIN:VCALENDAR
VERSION:2.0
PRODID:-//New Mexico International School - ECPv6.15.20//NONSGML v1.0//EN
CALSCALE:GREGORIAN
METHOD:PUBLISH
X-WR-CALNAME:New Mexico International School
X-ORIGINAL-URL:https://www.nmis.org
X-WR-CALDESC:Events for New Mexico International School
REFRESH-INTERVAL;VALUE=DURATION:PT1H
X-Robots-Tag:noindex
X-PUBLISHED-TTL:PT1H
BEGIN:VTIMEZONE
TZID:America/Denver
BEGIN:DAYLIGHT
TZOFFSETFROM:-0700
TZOFFSETTO:-0600
TZNAME:MDT
DTSTART:20250309T090000
END:DAYLIGHT
BEGIN:STANDARD
TZOFFSETFROM:-0600
TZOFFSETTO:-0700
TZNAME:MST
DTSTART:20251102T080000
END:STANDARD
BEGIN:DAYLIGHT
TZOFFSETFROM:-0700
TZOFFSETTO:-0600
TZNAME:MDT
DTSTART:20260308T090000
END:DAYLIGHT
BEGIN:STANDARD
TZOFFSETFROM:-0600
TZOFFSETTO:-0700
TZNAME:MST
DTSTART:20261101T080000
END:STANDARD
BEGIN:DAYLIGHT
TZOFFSETFROM:-0700
TZOFFSETTO:-0600
TZNAME:MDT
DTSTART:20270314T090000
END:DAYLIGHT
BEGIN:STANDARD
TZOFFSETFROM:-0600
TZOFFSETTO:-0700
TZNAME:MST
DTSTART:20271107T080000
END:STANDARD
END:VTIMEZONE
BEGIN:VEVENT
DTSTART;TZID=America/Denver:20260422T083000
DTEND;TZID=America/Denver:20260422T110000
DTSTAMP:20260421T064751
CREATED:20260409T212723Z
LAST-MODIFIED:20260409T212723Z
UID:10455-1776846600-1776855600@www.nmis.org
SUMMARY:Arabic Language Seal Presentations
DESCRIPTION:
URL:https://www.nmis.org/event/arabic-language-seal-presentations/
LOCATION:PAC
END:VEVENT
BEGIN:VEVENT
DTSTART;TZID=America/Denver:20260424T153000
DTEND;TZID=America/Denver:20260424T170000
DTSTAMP:20260421T064751
CREATED:20260410T174957Z
LAST-MODIFIED:20260410T174957Z
UID:10464-1777044600-1777050000@www.nmis.org
SUMMARY:NMIS Field Day/ School Teams Water Day Tournaments
DESCRIPTION:The council is excited to announce that they will be able to host the popular NMIS School Teams Water Based Tournament Field Day fundraiser again this year! This will take place on Friday\, April 24 right after school\, 3:30 to 5 PM.  \nClick here to purchase a ticket for your student to attend. The ticket will cover access to the playground right after dismissal to play in the water base tournaments for their school team under parent and staff supervision. Your ticket will also give your student access to water and snacks.  \nOur playground can safely accommodate 150 students so we are setting the registration cap to this. Once we get to 150 students registered the OSP link will close so please register early. \nSchool team captains will be leading the water-based team relay activities. Students must bring a towel\, swimsuit and wear water shoes as they will get wet! Students who have their school team shirts should wear this on top of their swimming suit. If you’d like to purchase a school team shirt for this event you can purchase one here Your students can wear this shirt instead of their uniform at all team events and assembly this and next school year! \nThe last 30 minutes of the event will be a fun water fight with water guns and water buckets for the students to play with during this time.  \nA food truck will be in attendance for students who would like to purchase ice cream and slushies during the event.   \nWe are currently looking for parent volunteers who have a school background check and would like to help supervise students while they are playing in the playground. If you are interested and have a background check email pedrotty@nmis.org as soon as you can.
URL:https://www.nmis.org/event/nmis-field-day-school-teams-water-day-tournaments/
LOCATION:Playground
END:VEVENT
BEGIN:VEVENT
DTSTART;TZID=America/Denver:20260502T110000
DTEND;TZID=America/Denver:20260502T130000
DTSTAMP:20260421T064751
CREATED:20260410T175837Z
LAST-MODIFIED:20260410T175837Z
UID:10470-1777719600-1777726800@www.nmis.org
SUMMARY:Roadrunner Food Bank Volunteer Day
DESCRIPTION:Our next Roadrunner Food Bank volunteer day is set for Saturday\, May 2\, from 11:00 am – 1:00 pm. Students ages 8-18 are welcome to join us\, and there are spots for adults\, too. Looking forward to having you join us! Click here to sign up. Reach out to Maestra Alisa at cooperdeuribe@nmis.org with any questions.
URL:https://www.nmis.org/event/roadrunner-food-bank-volunteer-day/
END:VEVENT
BEGIN:VEVENT
DTSTART;VALUE=DATE:20260503
DTEND;VALUE=DATE:20260504
DTSTAMP:20260421T064751
CREATED:20260410T182650Z
LAST-MODIFIED:20260410T182650Z
UID:10474-1777766400-1777852799@www.nmis.org
SUMMARY:Run For The Zoo
DESCRIPTION:
URL:https://www.nmis.org/event/run-for-the-zoo/
END:VEVENT
BEGIN:VEVENT
DTSTART;TZID=America/Denver:20260504T180000
DTEND;TZID=America/Denver:20260504T200000
DTSTAMP:20260421T064751
CREATED:20260420T150559Z
LAST-MODIFIED:20260420T150559Z
UID:10498-1777917600-1777924800@www.nmis.org
SUMMARY:Critical Meeting: Future of the NMIS Foundation
DESCRIPTION:The NMIS Foundation is currently exploring the possibility of dissolving by the end of the summer due to a variety of factors. If you feel strongly about continuing the foundation’s work or are interested in taking on a more active leadership role to help sustain it\, we encourage you to get involved. \nAn informational meeting will be held on May 4th at 6:00 PM at the school. We welcome all who are interested in supporting the future of the foundation to attend.
URL:https://www.nmis.org/event/critical-meeting-future-of-the-nmis-foundation/
END:VEVENT
BEGIN:VEVENT
DTSTART;TZID=America/Denver:20260506T111500
DTEND;TZID=America/Denver:20260506T122500
DTSTAMP:20260421T064751
CREATED:20260409T214123Z
LAST-MODIFIED:20260420T150907Z
UID:10457-1778066100-1778070300@www.nmis.org
SUMMARY:1st Grade Annual Culture Show
DESCRIPTION:May 6\, 11:15 – 12:15 pm: First Grade Culture Show\, in which each of the 3 classes will present song\, poetry\, and dance in the PAC.
URL:https://www.nmis.org/event/1st-grade-annual-culture-show/
LOCATION:PAC
END:VEVENT
BEGIN:VEVENT
DTSTART;TZID=America/Denver:20260508T133000
DTEND;TZID=America/Denver:20260508T143000
DTSTAMP:20260421T064751
CREATED:20260420T150215Z
LAST-MODIFIED:20260420T150215Z
UID:10496-1778247000-1778250600@www.nmis.org
SUMMARY:Middle School Orchestra Concert
DESCRIPTION:
URL:https://www.nmis.org/event/middle-school-orchestra-concert/
LOCATION:PAC
END:VEVENT
BEGIN:VEVENT
DTSTART;TZID=America/Denver:20260508T180000
DTEND;TZID=America/Denver:20260508T191500
DTSTAMP:20260421T064751
CREATED:20260420T151227Z
LAST-MODIFIED:20260420T151352Z
UID:10503-1778263200-1778267700@www.nmis.org
SUMMARY:Spring Dance (2-5 Grade)
DESCRIPTION:
URL:https://www.nmis.org/event/spring-dance-2-5-grades/
LOCATION:Gym
END:VEVENT
BEGIN:VEVENT
DTSTART;TZID=America/Denver:20260508T193000
DTEND;TZID=America/Denver:20260508T210000
DTSTAMP:20260421T064751
CREATED:20260420T151330Z
LAST-MODIFIED:20260420T151330Z
UID:10505-1778268600-1778274000@www.nmis.org
SUMMARY:Spring Dance (6-8 Grade)
DESCRIPTION:
URL:https://www.nmis.org/event/spring-dance-6-8-grade/
LOCATION:Gym
END:VEVENT
BEGIN:VEVENT
DTSTART;TZID=America/Denver:20260511T152000
DTEND;TZID=America/Denver:20260515T170000
DTSTAMP:20260421T064751
CREATED:20260420T152431Z
LAST-MODIFIED:20260420T152431Z
UID:10508-1778512800-1778864400@www.nmis.org
SUMMARY:Last Week of After School Clubs
DESCRIPTION:After-school clubs will conclude this week\, from May 11 through May 15. Please check with your club coordinator to confirm the exact date your specific session ends.
URL:https://www.nmis.org/event/last-week-of-after-school-clubs/
END:VEVENT
BEGIN:VEVENT
DTSTART;TZID=America/Denver:20260520T093000
DTEND;TZID=America/Denver:20260520T110000
DTSTAMP:20260421T064751
CREATED:20260420T162046Z
LAST-MODIFIED:20260420T162046Z
UID:10521-1779269400-1779274800@www.nmis.org
SUMMARY:5th Grade Exhibition and 8th Grade Community Projects @ Student Community Action Expo (5th Exhibition PLUS 8th CAP)
DESCRIPTION:
URL:https://www.nmis.org/event/5th-grade-exhibition-and-8th-grade-community-projects-student-community-action-expo-5th-exhibition-plus-8th-cap/
END:VEVENT
BEGIN:VEVENT
DTSTART;TZID=America/Denver:20260521T180000
DTEND;TZID=America/Denver:20260521T190000
DTSTAMP:20260421T064751
CREATED:20260420T162429Z
LAST-MODIFIED:20260420T162429Z
UID:10523-1779386400-1779390000@www.nmis.org
SUMMARY:Governing Council Meeting
DESCRIPTION:
URL:https://www.nmis.org/event/governing-council-meeting-3/
END:VEVENT
BEGIN:VEVENT
DTSTART;VALUE=DATE:20260522
DTEND;VALUE=DATE:20260523
DTSTAMP:20260421T064751
CREATED:20260310T213220Z
LAST-MODIFIED:20260310T213220Z
UID:10362-1779408000-1779494399@www.nmis.org
SUMMARY:No School- Teacher Work Day
DESCRIPTION:
URL:https://www.nmis.org/event/no-school-teacher-work-day-2/
END:VEVENT
BEGIN:VEVENT
DTSTART;VALUE=DATE:20260525
DTEND;VALUE=DATE:20260526
DTSTAMP:20260421T064751
CREATED:20260310T213319Z
LAST-MODIFIED:20260310T213319Z
UID:10364-1779667200-1779753599@www.nmis.org
SUMMARY:No School- Memorial Day
DESCRIPTION:
URL:https://www.nmis.org/event/no-school-memorial-day/
END:VEVENT
BEGIN:VEVENT
DTSTART;TZID=America/Denver:20260526T091500
DTEND;TZID=America/Denver:20260526T103000
DTSTAMP:20260421T064751
CREATED:20260420T161845Z
LAST-MODIFIED:20260420T161845Z
UID:10519-1779786900-1779791400@www.nmis.org
SUMMARY:Learner Profile Awards Assembly: Student\, Teacher\, and Parent Awards
DESCRIPTION:
URL:https://www.nmis.org/event/learner-profile-awards-assembly-student-teacher-and-parent-awards/
LOCATION:PAC
END:VEVENT
BEGIN:VEVENT
DTSTART;TZID=America/Denver:20260526T142000
DTEND;TZID=America/Denver:20260526T152000
DTSTAMP:20260421T064751
CREATED:20260420T150822Z
LAST-MODIFIED:20260420T150822Z
UID:10500-1779805200-1779808800@www.nmis.org
SUMMARY:1st Grade End-of-Year speeches
DESCRIPTION:May 26\, 2:20-3:20: End-of-Year speeches in each of the 1st grade classrooms. If you\, family\, and/or friends plan on attending\, please rsvp to your child’s teacher.
URL:https://www.nmis.org/event/1st-grade-end-of-year-speeches/
END:VEVENT
BEGIN:VEVENT
DTSTART;TZID=America/Denver:20260527T090000
DTEND;TZID=America/Denver:20260527T100000
DTSTAMP:20260421T064751
CREATED:20260420T160953Z
LAST-MODIFIED:20260420T160953Z
UID:10510-1779872400-1779876000@www.nmis.org
SUMMARY:Graduation Ceremony for Middle School
DESCRIPTION:
URL:https://www.nmis.org/event/graduation-ceremony-for-middle-school/
LOCATION:PAC
END:VEVENT
BEGIN:VEVENT
DTSTART;TZID=America/Denver:20260527T103000
DTEND;TZID=America/Denver:20260527T120000
DTSTAMP:20260421T064751
CREATED:20260420T161041Z
LAST-MODIFIED:20260420T161041Z
UID:10512-1779877800-1779883200@www.nmis.org
SUMMARY:Graduation Ceremony for Kindergarten
DESCRIPTION:
URL:https://www.nmis.org/event/graduation-ceremony-for-kindergarten/
LOCATION:PAC
END:VEVENT
BEGIN:VEVENT
DTSTART;VALUE=DATE:20260528
DTEND;VALUE=DATE:20260529
DTSTAMP:20260421T064751
CREATED:20260310T213453Z
LAST-MODIFIED:20260420T161210Z
UID:10366-1779926400-1780012799@www.nmis.org
SUMMARY:Last Day Of School (11:15am Dismissal)
DESCRIPTION:
URL:https://www.nmis.org/event/last-day-of-school-water-day-1115am-dismissal/
END:VEVENT
BEGIN:VEVENT
DTSTART;TZID=America/Denver:20260528T083000
DTEND;TZID=America/Denver:20260528T094500
DTSTAMP:20260421T064751
CREATED:20260420T161401Z
LAST-MODIFIED:20260420T161401Z
UID:10515-1779957000-1779961500@www.nmis.org
SUMMARY:Water Day (K-2)
DESCRIPTION:
URL:https://www.nmis.org/event/water-day-k-2/
LOCATION:Playground
END:VEVENT
BEGIN:VEVENT
DTSTART;TZID=America/Denver:20260528T100000
DTEND;TZID=America/Denver:20260528T111500
DTSTAMP:20260421T064751
CREATED:20260420T161527Z
LAST-MODIFIED:20260420T161527Z
UID:10517-1779962400-1779966900@www.nmis.org
SUMMARY:Water Day (3-8)
DESCRIPTION:
URL:https://www.nmis.org/event/water-day-3-8/
LOCATION:Playground
END:VEVENT
END:VCALENDAR